Workbook

Sheet 申込書 
A2: 問合せ等の連絡先：
A3: 〒141-0031
A4: 東京都品川区西五反田1-26-2 五反田サンハイツ 304
A5: （公社）日本分析化学会
A6: 技能試験委員会 事務局
A7: TEL:03-3490-3352
A8: FAX:03-3490-3572
A9: E-mail：pro.test@jsac.or.jp
B12: 技能試験申込書
A14: 技能試験名 | B14: 第28回ダイオキシン類（模擬排水）分析技能試験
A15: 試験所名
A16: 部署名
A17: 連絡者（試料送付先）名
A18: 郵便番号
A19: 住所
A20: 電話番号
A21: FAX番号
A22: e-mail
A23: 団体会員番号
A24: 会員外、協賛学会別記入
A25: 受験方法 | B25: 記入不要
A28: 受講料(本体価格） | C28: 受講料は本体価格（消費税を含まない金額）を記載してください。
A29: 申込日 | B29: 20**年*月*日
A30: 備考
A31: 請求書送付先 会社名・所属 | C31: 請求書の送付先が、連絡者（試料の送付先）と異なる時は、左に新しくご記入下さい。
A32: 請求書送付先 氏名
A33: 郵便番号
A34: 住所
A35: 電話番号
A36: e-mail

Sheet Sheet1
A1: f1 | B1: f2 | C1: f3 | D1: f4 | E1: f5 | F1: f6 | G1: f7 | H1: f8 | I1: f9 | J1: f10 | K1: f11 | L1: f12 | M1: f13 | N1: f14 | O1: f15 | P1: f16 | Q1: f17 | R1: f18 | S1: f19 | T1: f20 | U1: f21 | V1: f22
A2: =IF('申込書 '!B29="","",'申込書 '!B29) -> 20**年*月*日 | B2: =IF('申込書 '!B24="","",'申込書 '!B24) | C2: =IF('申込書 '!B23="","",'申込書 '!B23) | D2: =IF('申込書 '!B28="","",'申込書 '!B28) | E2: =IF('申込書 '!B25="","",'申込書 '!B25) -> 記入不要 | F2: =IF('申込書 '!B26="","",'申込書 '!B26) | G2: =IF('申込書 '!B27="","",'申込書 '!B27) | H2: =IF('申込書 '!B17="","",'申込書 '!B17) | I2: =IF('申込書 '!B15="","",'申込書 '!B15) | J2: =IF('申込書 '!B16="","",'申込書 '!B16) | K2: =IF('申込書 '!B18="","",'申込書 '!B18) | L2: =IF('申込書 '!B19="","",'申込書 '!B19) | M2: =IF('申込書 '!B20="","",'申込書 '!B20) | N2: =IF('申込書 '!B21="","",'申込書 '!B21) | O2: =IF('申込書 '!B22="","",'申込書 '!B22) | P2: =IF('申込書 '!B30="","",'申込書 '!B30) | Q2: =IF('申込書 '!B31="","",'申込書 '!B31) | R2: =IF('申込書 '!B32="","",'申込書 '!B32) | S2: =IF('申込書 '!B33="","",'申込書 '!B33) | T2: =IF('申込書 '!B34="","",'申込書 '!B34) | U2: =IF('申込書 '!B35="","",'申込書 '!B35) | V2: =IF('申込書 '!B36="","",'申込書 '!B36)
A3: 申込日 | B3: 会員外、協賛学会別記入 | C3: ='申込書 '!A23 -> 団体会員番号 | D3: 受講料 (注） | E3: 受験方法 | H3: 連絡者（試料送付先）名 | I3: 試験所名 | J3: 部所名 | K3: 郵便番号 | L3: 住所 | M3: 電話番号 | N3: FAX番号 | O3: e-mail | P3: 備考 | Q3: 請求書送付先 会社名・所属 | R3: 請求書送付先 氏名 | S3: 郵便番号 | T3: 住所 | U3: 電話番号 | V3: e-mail
A5: ↑
A6: 消さないで下さい
